BEGIN:VCALENDAR
VERSION:2.0
PRODID:-//The Bella Network LLC - ECPv6.15.20//NONSGML v1.0//EN
CALSCALE:GREGORIAN
METHOD:PUBLISH
X-WR-CALNAME:The Bella Network LLC
X-ORIGINAL-URL:https://thebellanetwork.com
X-WR-CALDESC:Events for The Bella Network LLC
REFRESH-INTERVAL;VALUE=DURATION:PT1H
X-Robots-Tag:noindex
X-PUBLISHED-TTL:PT1H
BEGIN:VTIMEZONE
TZID:America/Los_Angeles
BEGIN:DAYLIGHT
TZOFFSETFROM:-0800
TZOFFSETTO:-0700
TZNAME:PDT
DTSTART:20170312T100000
END:DAYLIGHT
BEGIN:STANDARD
TZOFFSETFROM:-0700
TZOFFSETTO:-0800
TZNAME:PST
DTSTART:20171105T090000
END:STANDARD
BEGIN:DAYLIGHT
TZOFFSETFROM:-0800
TZOFFSETTO:-0700
TZNAME:PDT
DTSTART:20180311T100000
END:DAYLIGHT
BEGIN:STANDARD
TZOFFSETFROM:-0700
TZOFFSETTO:-0800
TZNAME:PST
DTSTART:20181104T090000
END:STANDARD
BEGIN:DAYLIGHT
TZOFFSETFROM:-0800
TZOFFSETTO:-0700
TZNAME:PDT
DTSTART:20190310T100000
END:DAYLIGHT
BEGIN:STANDARD
TZOFFSETFROM:-0700
TZOFFSETTO:-0800
TZNAME:PST
DTSTART:20191103T090000
END:STANDARD
BEGIN:DAYLIGHT
TZOFFSETFROM:-0800
TZOFFSETTO:-0700
TZNAME:PDT
DTSTART:20200308T100000
END:DAYLIGHT
BEGIN:STANDARD
TZOFFSETFROM:-0700
TZOFFSETTO:-0800
TZNAME:PST
DTSTART:20201101T090000
END:STANDARD
END:VTIMEZONE
BEGIN:VEVENT
DTSTART;TZID=America/Los_Angeles:20190919T110000
DTEND;TZID=America/Los_Angeles:20190919T130000
DTSTAMP:20260420T053643
CREATED:20190906T022645Z
LAST-MODIFIED:20190906T033758Z
UID:3553-1568890800-1568898000@thebellanetwork.com
SUMMARY:Network Bella Style
DESCRIPTION:We bring professionals from different industries and levels together to network BELLA style. Walk away knowing everyone in the room!\n\n\n\n\n\n\nAbout this Event\n\n\nNetworking for us means bringing everyone you know with you as you learn how to support\, and advocate for yourself and everyone in your network. We don’t believe it starts with handing someone you don’t know your card. That should be the last thing you do. \nCome experience NETWORKING BELLA STYLE. We want you to know how to expand your network upward\, and outward. Learn how to enter a circle and how to get your network advocating for you.
URL:https://thebellanetwork.com/event/nbs0919/
LOCATION:Hilltop Coffee & Kitchen\, 4427 West Slauson Avenue\, Los Angeles\, CA\, 90043\, United States
CATEGORIES:Affiliated Events,Brunch,Conference,Dinner,Girls Night Out,Lunch,Network Bella Style,Presentation,Speakers,Think Tank,TV Show,Workshop
ORGANIZER;CN="The Bella Network":MAILTO:info@thebellanetwork.com
END:VEVENT
BEGIN:VEVENT
DTSTART;TZID=America/Los_Angeles:20180515T223000
DTEND;TZID=America/Los_Angeles:20180516T110000
DTSTAMP:20260420T053643
CREATED:20180110T164038Z
LAST-MODIFIED:20250702T231707Z
UID:2840-1526423400-1526468400@thebellanetwork.com
SUMMARY:Career Talk - Bella Style May 2018
DESCRIPTION:Career Talk – Bella Style\nThe Bella Network is launching a talk show on PBS starting Wednesday\, January 10th at 5:30 p.m. Stay tuned monthly for 30 minutes of Career Talk Bella Style where two seasoned hosts will discussing tips and best practices with accomplished career professionals on various career topics to deliver insightful and inspirational responses to real-world experiences. The focus is on empowering viewers to scale their career or transition into their second act.\nIf you miss the monthly live taping catch the replay on YouTube – search Four Point Media\n\n\n\n\n\n\n\n\n\n 
URL:https://thebellanetwork.com/event/career-talk-bella-style-2018-05-16/
LOCATION:West Hollywood PBS
CATEGORIES:Presentation,Speakers,TV Show
ORGANIZER;CN="The Bella Network":MAILTO:info@thebellanetwork.com
END:VEVENT
BEGIN:VEVENT
DTSTART;TZID=America/Los_Angeles:20180417T223000
DTEND;TZID=America/Los_Angeles:20180418T110000
DTSTAMP:20260420T053643
CREATED:20180110T164038Z
LAST-MODIFIED:20250702T231723Z
UID:2839-1524004200-1524049200@thebellanetwork.com
SUMMARY:Career Talk - Bella Style Apr 2018
DESCRIPTION:Career Talk – Bella Style\nThe Bella Network is launching a talk show on PBS starting Wednesday\, January 10th at 5:30 p.m. Stay tuned monthly for 30 minutes of Career Talk Bella Style where two seasoned hosts will discussing tips and best practices with accomplished career professionals on various career topics to deliver insightful and inspirational responses to real-world experiences. The focus is on empowering viewers to scale their career or transition into their second act.\nIf you miss the monthly live taping catch the replay on YouTube – search Four Point Media\n\n\n\n\n\n\n\n\n\n 
URL:https://thebellanetwork.com/event/career-talk-bella-style-2018-04-18/
LOCATION:West Hollywood PBS
CATEGORIES:Presentation,Speakers,TV Show
ORGANIZER;CN="The Bella Network":MAILTO:info@thebellanetwork.com
END:VEVENT
BEGIN:VEVENT
DTSTART;TZID=America/Los_Angeles:20180320T223000
DTEND;TZID=America/Los_Angeles:20180321T110000
DTSTAMP:20260420T053643
CREATED:20180110T164038Z
LAST-MODIFIED:20250702T232010Z
UID:2838-1521585000-1521630000@thebellanetwork.com
SUMMARY:Career Talk - Bella Style Mar 2018
DESCRIPTION:Career Talk – Bella Style\nThe Bella Network is launching a talk show on PBS starting Wednesday\, January 10th at 5:30 p.m. Stay tuned monthly for 30 minutes of Career Talk Bella Style where two seasoned hosts will discussing tips and best practices with accomplished career professionals on various career topics to deliver insightful and inspirational responses to real-world experiences. The focus is on empowering viewers to scale their career or transition into their second act.\nIf you miss the monthly live taping catch the replay on YouTube – search Four Point Media\n\n\n\n\n\n\n\n\n\n 
URL:https://thebellanetwork.com/event/career-talk-bella-style-2018-03-21/
LOCATION:West Hollywood PBS
CATEGORIES:Presentation,Speakers,TV Show
ORGANIZER;CN="The Bella Network":MAILTO:info@thebellanetwork.com
END:VEVENT
BEGIN:VEVENT
DTSTART;TZID=America/Los_Angeles:20180220T213000
DTEND;TZID=America/Los_Angeles:20180221T100000
DTSTAMP:20260420T053643
CREATED:20180110T164038Z
LAST-MODIFIED:20250702T231909Z
UID:2837-1519162200-1519207200@thebellanetwork.com
SUMMARY:Career Talk - Bella Style Feb 2018
DESCRIPTION:Career Talk – Bella Style\nThe Bella Network is launching a talk show on PBS starting Wednesday\, January 10th at 5:30 p.m. Stay tuned monthly for 30 minutes of Career Talk Bella Style where two seasoned hosts will discussing tips and best practices with accomplished career professionals on various career topics to deliver insightful and inspirational responses to real-world experiences. The focus is on empowering viewers to scale their career or transition into their second act.\nIf you miss the monthly live taping catch the replay on YouTube – search Four Point Media\n\n\n\n\n\n\n\n\n\n 
URL:https://thebellanetwork.com/event/career-talk-bella-style-2018-02-21/
LOCATION:West Hollywood PBS
CATEGORIES:Presentation,Speakers,TV Show
ORGANIZER;CN="The Bella Network":MAILTO:info@thebellanetwork.com
END:VEVENT
BEGIN:VEVENT
DTSTART;TZID=America/Los_Angeles:20180116T213000
DTEND;TZID=America/Los_Angeles:20180117T100000
DTSTAMP:20260420T053643
CREATED:20180110T164038Z
LAST-MODIFIED:20250702T231954Z
UID:2769-1516138200-1516183200@thebellanetwork.com
SUMMARY:Career Talk - Bella Style Jan 2018
DESCRIPTION:Career Talk – Bella Style\nThe Bella Network is launching a talk show on PBS starting Wednesday\, January 10th at 5:30 p.m. Stay tuned monthly for 30 minutes of Career Talk Bella Style where two seasoned hosts will discussing tips and best practices with accomplished career professionals on various career topics to deliver insightful and inspirational responses to real-world experiences. The focus is on empowering viewers to scale their career or transition into their second act.\nIf you miss the monthly live taping catch the replay on YouTube – search Four Point Media
URL:https://thebellanetwork.com/event/career-talk-bella-style/
LOCATION:West Hollywood PBS
CATEGORIES:Presentation,Speakers,TV Show
ORGANIZER;CN="The Bella Network":MAILTO:info@thebellanetwork.com
END:VEVENT
END:VCALENDAR